BEGIN:VCALENDAR
VERSION:2.0
PRODID:-//eventon.com NONSGML v1.0//EN
CALSCALE:GREGORIAN
METHOD:PUBLISH
BEGIN:VEVENT
UID:69e8a1b5c4491
DTSTAMP:20260422T102349Z
DTSTART:20260205T160000Z
DTEND:20260205T190000Z
LOCATION:
SUMMARY:Gefahr Erkannt\,  Gefahr Gebannt
DESCRIPTION:Anmeldung erforderlich unter 02626/67740 VHS Burgenland\nhttps:
 //wiesen.gv.at/events/gefahr-erkannt-gefahr-gebannt-3/
URL:https://wiesen.gv.at/events/gefahr-erkannt-gefahr-gebannt-3/
END:VEVENT
END:VCALENDAR