BEGIN:VCALENDAR
VERSION:2.0
PRODID:-//eventon.com NONSGML v1.0//EN
CALSCALE:GREGORIAN
METHOD:PUBLISH
BEGIN:VEVENT
UID:69e4e8cc2eaef
DTSTAMP:20260419T143804Z
DTSTART:20261219T053000Z
DTEND:20261219T225000Z
LOCATION:
SUMMARY:Rorate
DESCRIPTION:\nhttps://wiesen.gv.at/events/rorate/
URL:https://wiesen.gv.at/events/rorate/
END:VEVENT
END:VCALENDAR