BEGIN:VCALENDAR
VERSION:2.0
PRODID:-//eventon.com NONSGML v1.0//EN
CALSCALE:GREGORIAN
METHOD:PUBLISH
BEGIN:VEVENT
UID:69e55a3f930c7
DTSTAMP:20260419T224207Z
DTSTART:20260928T173000Z
DTEND:20260928T182500Z
LOCATION:
SUMMARY:Feldenkrais
DESCRIPTION:Lernen durch Bewegung\nhttps://wiesen.gv.at/events/feldenkrais/
URL:https://wiesen.gv.at/events/feldenkrais/
END:VEVENT
END:VCALENDAR