BEGIN:VCALENDAR
VERSION:2.0
PRODID:-//eventon.com NONSGML v1.0//EN
CALSCALE:GREGORIAN
METHOD:PUBLISH
BEGIN:VEVENT
UID:69e7787c2ab17
DTSTAMP:20260421T131540Z
DTSTART:20260715T170000Z
DTEND:20260715T180000Z
LOCATION:
SUMMARY:GESUNDES DORF BEWEGT
DESCRIPTION:\nhttps://wiesen.gv.at/events/gesundes-dorf-bewegt-6/
URL:https://wiesen.gv.at/events/gesundes-dorf-bewegt-6/
END:VEVENT
END:VCALENDAR