BEGIN:VCALENDAR
VERSION:2.0
PRODID:-//eventon.com NONSGML v1.0//EN
CALSCALE:GREGORIAN
METHOD:PUBLISH
BEGIN:VEVENT
UID:69e745002da8b
DTSTAMP:20260421T093600Z
DTSTART:20251213
DTEND:20251214
LOCATION:
SUMMARY:Glühweinfest am Keltenberg
DESCRIPTION:Glühweinfest am Keltenberg\nhttps://wiesen.gv.at/events/gluehw
 einfest-am-keltenberg/
URL:https://wiesen.gv.at/events/gluehweinfest-am-keltenberg/
END:VEVENT
END:VCALENDAR