BEGIN:VCALENDAR
VERSION:2.0
PRODID:-//eventon.com NONSGML v1.0//EN
CALSCALE:GREGORIAN
METHOD:PUBLISH
BEGIN:VEVENT
UID:69e8411a4ecde
DTSTAMP:20260422T033138Z
DTSTART:20250927
DTEND:20250928
LOCATION:
SUMMARY:Herbstfest am Keltenberg
DESCRIPTION:Herbstfest am Keltenberg\nhttps://wiesen.gv.at/events/herbstfes
 t/
URL:https://wiesen.gv.at/events/herbstfest/
END:VEVENT
END:VCALENDAR