BEGIN:VCALENDAR
VERSION:2.0
PRODID:-//eventon.com NONSGML v1.0//EN
CALSCALE:GREGORIAN
METHOD:PUBLISH
BEGIN:VEVENT
UID:69e5ad079dabb
DTSTAMP:20260420T043519Z
DTSTART:20250104T080000Z
DTEND:20250104T160000Z
LOCATION:
SUMMARY:Punto Rojo - Verkauf und Verkostung
DESCRIPTION:Familie Spuller\nhttps://wiesen.gv.at/events/punto-rojo-verkauf
 -und-verkostung/
URL:https://wiesen.gv.at/events/punto-rojo-verkauf-und-verkostung/
END:VEVENT
END:VCALENDAR