BEGIN:VCALENDAR
VERSION:2.0
PRODID:-//eventon.com NONSGML v1.0//EN
CALSCALE:GREGORIAN
METHOD:PUBLISH
BEGIN:VEVENT
UID:69e924c3a6e60
DTSTAMP:20260422T194259Z
DTSTART:20261216T053000Z
DTEND:20261216T225000Z
LOCATION:
SUMMARY:Rorate
DESCRIPTION:\nhttps://wiesen.gv.at/events/rorate-3/
URL:https://wiesen.gv.at/events/rorate-3/
END:VEVENT
END:VCALENDAR