BEGIN:VCALENDAR
VERSION:2.0
PRODID:-//eventon.com NONSGML v1.0//EN
CALSCALE:GREGORIAN
METHOD:PUBLISH
BEGIN:VEVENT
UID:69e519b552fed
DTSTAMP:20260419T180645Z
DTSTART:20261128T170000Z
DTEND:20261128T225000Z
LOCATION:
SUMMARY:Adventkranzsegnung
DESCRIPTION:bei der Abendmesse\nhttps://wiesen.gv.at/events/adventkranzsegn
 ung/
URL:https://wiesen.gv.at/events/adventkranzsegnung/
END:VEVENT
END:VCALENDAR