BEGIN:VCALENDAR
VERSION:2.0
PRODID:-//eventon.com NONSGML v1.0//EN
CALSCALE:GREGORIAN
METHOD:PUBLISH
BEGIN:VEVENT
UID:69e8906178ba5
DTSTAMP:20260422T090953Z
DTSTART:20261018
DTEND:20261019
LOCATION:
SUMMARY:Weltmissionstag
DESCRIPTION:\nhttps://wiesen.gv.at/events/weltmissionstag/
URL:https://wiesen.gv.at/events/weltmissionstag/
END:VEVENT
END:VCALENDAR