BEGIN:VCALENDAR
VERSION:2.0
PRODID:-//eventon.com NONSGML v1.0//EN
CALSCALE:GREGORIAN
METHOD:PUBLISH
BEGIN:VEVENT
UID:69ebcf0444e4c
DTSTAMP:20260424T201356Z
DTSTART:20270509T100000Z
DTEND:20270509T215000Z
LOCATION:
SUMMARY:Muttertagsfeier
DESCRIPTION:Muttertagsfeier\nhttps://wiesen.gv.at/events/muttertagsfeier/
URL:https://wiesen.gv.at/events/muttertagsfeier/
END:VEVENT
END:VCALENDAR