BEGIN:VCALENDAR
VERSION:2.0
PRODID:-//eventon.com NONSGML v1.0//EN
CALSCALE:GREGORIAN
METHOD:PUBLISH
BEGIN:VEVENT
UID:69e58ecae45d0
DTSTAMP:20260420T022618Z
DTSTART:20260503
DTEND:20260504
LOCATION:
SUMMARY:Tag der Feuerwehr
DESCRIPTION:Tag der Feuerwehr\nhttps://wiesen.gv.at/events/tag-der-feuerweh
 r/
URL:https://wiesen.gv.at/events/tag-der-feuerwehr/
END:VEVENT
END:VCALENDAR