BEGIN:VCALENDAR
VERSION:2.0
PRODID:-//eventon.com NONSGML v1.0//EN
CALSCALE:GREGORIAN
METHOD:PUBLISH
BEGIN:VEVENT
UID:69e74c5135f6e
DTSTAMP:20260421T100713Z
DTSTART:20270209T100000Z
DTEND:20270209T225000Z
LOCATION:
SUMMARY:Faschingsumzug
DESCRIPTION:Faschingsumzug\nhttps://wiesen.gv.at/events/faschingsumzug-2/
URL:https://wiesen.gv.at/events/faschingsumzug-2/
END:VEVENT
END:VCALENDAR