BEGIN:VCALENDAR
VERSION:2.0
PRODID:-//eventon.com NONSGML v1.0//EN
CALSCALE:GREGORIAN
METHOD:PUBLISH
BEGIN:VEVENT
UID:69e73e9c9f5fe
DTSTAMP:20260421T090844Z
DTSTART:20250621
DTEND:20250622
LOCATION:
SUMMARY:Sonnwendfeier am Keltenberg
DESCRIPTION:Sonnwendfeier am Keltenberg\nhttps://wiesen.gv.at/events/sonnwe
 ndfeier-siedlerverein-keltenberg/
URL:https://wiesen.gv.at/events/sonnwendfeier-siedlerverein-keltenberg/
END:VEVENT
END:VCALENDAR