BEGIN:VCALENDAR
VERSION:2.0
PRODID:-//eventon.com NONSGML v1.0//EN
CALSCALE:GREGORIAN
METHOD:PUBLISH
BEGIN:VEVENT
UID:69e752d65d86a
DTSTAMP:20260421T103502Z
DTSTART:20270207T140000Z
DTEND:20270207T225000Z
LOCATION:
SUMMARY:Seniorenkränzchen
DESCRIPTION:Seniorenkränzchen\nhttps://wiesen.gv.at/events/seniorenkraenzc
 hen/
URL:https://wiesen.gv.at/events/seniorenkraenzchen/
END:VEVENT
END:VCALENDAR